BEGIN:VCALENDAR
VERSION:2.0
PRODID:-//- R M L - - ECPv6.8.3//NONSGML v1.0//EN
CALSCALE:GREGORIAN
METHOD:PUBLISH
X-WR-CALNAME:- R M L -
X-ORIGINAL-URL:https://muehlbauer-plattling.de
X-WR-CALDESC:Veranstaltungen für - R M L -
REFRESH-INTERVAL;VALUE=DURATION:PT1H
X-Robots-Tag:noindex
X-PUBLISHED-TTL:PT1H
BEGIN:VTIMEZONE
TZID:Europe/Berlin
BEGIN:DAYLIGHT
TZOFFSETFROM:+0100
TZOFFSETTO:+0200
TZNAME:CEST
DTSTART:20230326T010000
END:DAYLIGHT
BEGIN:STANDARD
TZOFFSETFROM:+0200
TZOFFSETTO:+0100
TZNAME:CET
DTSTART:20231029T010000
END:STANDARD
END:VTIMEZONE
BEGIN:VEVENT
DTSTART;TZID=Europe/Berlin:20231215T193000
DTEND;TZID=Europe/Berlin:20231215T210000
DTSTAMP:20260424T115341
CREATED:20231211T105326Z
LAST-MODIFIED:20231211T105326Z
UID:1935-1702668600-1702674000@muehlbauer-plattling.de
SUMMARY:Aliosha de Santis Gitarrenkonzert
DESCRIPTION:
URL:https://muehlbauer-plattling.de/event/aliosha-de-santis-gitarrenkonzert/
CATEGORIES:Konzert
END:VEVENT
END:VCALENDAR