BEGIN:VCALENDAR
VERSION:2.0
PRODID:-//- R M L - - ECPv6.8.3//NONSGML v1.0//EN
CALSCALE:GREGORIAN
METHOD:PUBLISH
X-ORIGINAL-URL:https://muehlbauer-plattling.de
X-WR-CALDESC:Veranstaltungen für - R M L -
REFRESH-INTERVAL;VALUE=DURATION:PT1H
X-Robots-Tag:noindex
X-PUBLISHED-TTL:PT1H
BEGIN:VTIMEZONE
TZID:Europe/Berlin
BEGIN:DAYLIGHT
TZOFFSETFROM:+0100
TZOFFSETTO:+0200
TZNAME:CEST
DTSTART:20230326T010000
END:DAYLIGHT
BEGIN:STANDARD
TZOFFSETFROM:+0200
TZOFFSETTO:+0100
TZNAME:CET
DTSTART:20231029T010000
END:STANDARD
END:VTIMEZONE
BEGIN:VEVENT
DTSTART;TZID=Europe/Berlin:20230709T060000
DTEND;TZID=Europe/Berlin:20230709T160000
DTSTAMP:20260424T182653
CREATED:20230227T155651Z
LAST-MODIFIED:20230227T155710Z
UID:1925-1688882400-1688918400@muehlbauer-plattling.de
SUMMARY:12. FreYunger Dreiländer Radmarathon
DESCRIPTION:  \n2023 findet der 12. FreYunger Dreiländer Radmarathon und die 29. Nationalpark-Dreisessel-Radrundfahrt am \nSonntag\, 9. Juli 2023\, statt
URL:https://muehlbauer-plattling.de/event/12-freyunger-dreilaender-radmarathon/
CATEGORIES:Radevent
END:VEVENT
END:VCALENDAR