BEGIN:VCALENDAR
VERSION:2.0
PRODID:-//- R M L - - ECPv6.8.3//NONSGML v1.0//EN
CALSCALE:GREGORIAN
METHOD:PUBLISH
X-ORIGINAL-URL:https://muehlbauer-plattling.de
X-WR-CALDESC:Veranstaltungen für - R M L -
REFRESH-INTERVAL;VALUE=DURATION:PT1H
X-Robots-Tag:noindex
X-PUBLISHED-TTL:PT1H
BEGIN:VTIMEZONE
TZID:Europe/Berlin
BEGIN:DAYLIGHT
TZOFFSETFROM:+0100
TZOFFSETTO:+0200
TZNAME:CEST
DTSTART:20230326T010000
END:DAYLIGHT
BEGIN:STANDARD
TZOFFSETFROM:+0200
TZOFFSETTO:+0100
TZNAME:CET
DTSTART:20231029T010000
END:STANDARD
END:VTIMEZONE
BEGIN:VEVENT
DTSTART;TZID=Europe/Berlin:20230528T060000
DTEND;TZID=Europe/Berlin:20230528T170000
DTSTAMP:20260424T204926
CREATED:20220215T155453Z
LAST-MODIFIED:20230227T151140Z
UID:491-1685253600-1685293200@muehlbauer-plattling.de
SUMMARY:Sternfahrt Strasskirchen Altötting
DESCRIPTION:Termin: Pfingstsonntag\, 28.05.2023\nAbfahrt Straßkirchen: pünktlich um 06.15 Uhr\nStartort: Sportgelände Paitzkoffener Straße \n 
URL:https://muehlbauer-plattling.de/event/sternfahrt-strasskirchen/
CATEGORIES:Radevent
END:VEVENT
END:VCALENDAR