BEGIN:VCALENDAR
VERSION:2.0
PRODID:-//- R M L - - ECPv6.8.3//NONSGML v1.0//EN
CALSCALE:GREGORIAN
METHOD:PUBLISH
X-WR-CALNAME:- R M L -
X-ORIGINAL-URL:https://muehlbauer-plattling.de
X-WR-CALDESC:Veranstaltungen für - R M L -
REFRESH-INTERVAL;VALUE=DURATION:PT1H
X-Robots-Tag:noindex
X-PUBLISHED-TTL:PT1H
BEGIN:VTIMEZONE
TZID:Europe/Berlin
BEGIN:DAYLIGHT
TZOFFSETFROM:+0100
TZOFFSETTO:+0200
TZNAME:CEST
DTSTART:20230326T010000
END:DAYLIGHT
BEGIN:STANDARD
TZOFFSETFROM:+0200
TZOFFSETTO:+0100
TZNAME:CET
DTSTART:20231029T010000
END:STANDARD
END:VTIMEZONE
BEGIN:VEVENT
DTSTART;TZID=Europe/Berlin:20230331T200000
DTEND;TZID=Europe/Berlin:20230331T220000
DTSTAMP:20260424T221215
CREATED:20230227T151439Z
LAST-MODIFIED:20230227T151514Z
UID:1909-1680292800-1680300000@muehlbauer-plattling.de
SUMMARY:Joscho Stephan Trio (Gypsy Swing)
DESCRIPTION:Maisach – Braustüberl Maisach \nHauptstrasse 24\, 82216 Maisach
URL:https://muehlbauer-plattling.de/event/joscho-stephan-trio-gypsy-swing/
CATEGORIES:Konzert
END:VEVENT
END:VCALENDAR